BEGIN:VCALENDAR
VERSION:2.0
PRODID:-//Camara Oficial de Comercio, Industria y Servicios de Palencia - COCIPA - ECPv6.15.20//NONSGML v1.0//EN
CALSCALE:GREGORIAN
METHOD:PUBLISH
X-ORIGINAL-URL:https://cocipa.es
X-WR-CALDESC:Eventos para Camara Oficial de Comercio, Industria y Servicios de Palencia - COCIPA
REFRESH-INTERVAL;VALUE=DURATION:PT1H
X-Robots-Tag:noindex
X-PUBLISHED-TTL:PT1H
BEGIN:VTIMEZONE
TZID:Europe/Madrid
BEGIN:DAYLIGHT
TZOFFSETFROM:+0100
TZOFFSETTO:+0200
TZNAME:CEST
DTSTART:20250330T010000
END:DAYLIGHT
BEGIN:STANDARD
TZOFFSETFROM:+0200
TZOFFSETTO:+0100
TZNAME:CET
DTSTART:20251026T010000
END:STANDARD
BEGIN:DAYLIGHT
TZOFFSETFROM:+0100
TZOFFSETTO:+0200
TZNAME:CEST
DTSTART:20260329T010000
END:DAYLIGHT
BEGIN:STANDARD
TZOFFSETFROM:+0200
TZOFFSETTO:+0100
TZNAME:CET
DTSTART:20261025T010000
END:STANDARD
BEGIN:DAYLIGHT
TZOFFSETFROM:+0100
TZOFFSETTO:+0200
TZNAME:CEST
DTSTART:20270328T010000
END:DAYLIGHT
BEGIN:STANDARD
TZOFFSETFROM:+0200
TZOFFSETTO:+0100
TZNAME:CET
DTSTART:20271031T010000
END:STANDARD
END:VTIMEZONE
BEGIN:VEVENT
DTSTART;TZID=Europe/Madrid:20260429T100000
DTEND;TZID=Europe/Madrid:20260429T103000
DTSTAMP:20260420T182742
CREATED:20260420T110046Z
LAST-MODIFIED:20260420T152843Z
UID:26582-1777456800-1777458600@cocipa.es
SUMMARY:DESAYUNO DE TRABAJO : El impulso agroindustrial en Palencia con DiAgroemplea
DESCRIPTION:DIRIGIDO A:\nEmpresas palentinas relacionadas directa o indirectamente con el sector agroalimentario\, así como empresas palentinas\, proveedores TIC y agentes del ecosistema empresarial interesados en empleo\, talento y digitalización. \n¿QUÉ VAS A VER EN ESTE DESAYUNO DE TRABAJO?\nEn este desayuno de trabajo abordaremos uno de los principales retos del tejido empresarial palentino vinculado al sector agroalimentario y sus sectores complementarios: el empleo y el talento.\nEl encuentro se desarrollará en formato entrevista con la Directora de la Cámara de Comercio de Palencia\, Rosa González Calvo. Durante la sesión se hablará del marco estratégico del proyecto DiAgro Palencia 2030\, y presentaremos la gran novedad para la retención de talento en la provincia: DiAgro Emplea. \nAGENDA:\n10:00 – 10:05 | Bienvenida\n10:05 – 10:15 | La Cámara de Comercio y su papel en el tejido empresarial\n– El papel actual de la Cámara de Comercio en el apoyo a las empresas palentinas.\n– Servicios de la Cámara orientados a competitividad\, empleo y crecimiento empresarial.\n10:15 – 10:20 | DiAgro Palencia 2030: contexto y visión estratégica\n– ¿Qué es el proyecto DiAgro Palencia 2030?\n– Objetivos del proyecto y líneas de actuación.\n10:20 – 10:30 | DiAgro emplea: la respuesta al reto del talento\n– ¿Qué es DiAgro Emplea y qué necesidad viene a cubrir?\n– Empresas que pueden participar: perfiles y sectores.\n– Ventajas para las pymes frente a portales de empleo generalistas. \nCALENDARIO\, HORARIO Y LUGAR DE CELEBRACIÓN:\n\nFecha: 29 de abril de 2026\nFormato: Directo en Youtube\nDuración: 30 minutos\nHorario: De 10:00 h a 10:30 h. a.m.\n\nDESCARGA EL PROGRAMA \n¡INSCRÍBETE Y TE AVISAREMOS 10 MINUTOS ANTES DE EMPEZAR!\n¡No te pierdas el directo! Rellena el formulario que verás a continuación y te avisaremos por correo electrónico con el link del Desayuno de Trabajo en Directo cuando falten 10 minutos para arrancar. Así\, no tendrás que estar pendiente y podrás conectarte el primero y conocer todos los detalles. \n\n\n  \n\n\n\n\n	\n		\n			\n					Nombre (requerido)\n \n					\n			 \n		\n		\n			\n					Apellidos (requerido)\n \n					\n			 \n		\n		\n			\n				\n						DNI del asistente(requerido)\n \n						\n				 \n			\n			\n				\n						Teléfono (requerido)\n \n						\n				 \n			\n		\n		\n				Tu correo electrónico (requerido)\n \n				\n		 \n		\n			\n				\n						Código Postal\n \n						\n				 \n			\n			\n				\n						NIF de empresa (requerido)\n \n						\n				 \n			\n		\n		\n				Sector de actividad\n \n				\n		 \n		\n				Empresa (requerido)\n \n				\n		 \n	\n\n	\n		\n		\n		\n		\n	\n\n\n		 Acepto la política de privacidad\n		 \n		\n		 \n	\n\n\n\n\n 
URL:https://cocipa.es/evento/desayuno-de-trabajo-el-impulso-agroindustrial-en-palencia-con-diagroemplea/
LOCATION:Cámara Comercio Palencia\, PLAZA PÍO XII\, 7\, PALENCIA\, palencia\, 34005\, Spain
CATEGORIES:Desayuno de Trabajo
ATTACH;FMTTYPE=image/png:https://cocipa.es/wp-content/uploads/2026/04/e887dcad-0f7f-4ae8-b523-86212fe4278d.png
ORGANIZER;CN="C%C3%A1mara Palencia":MAILTO:general@cocipa.es
END:VEVENT
END:VCALENDAR